BEGIN:VCALENDAR
VERSION:2.0
PRODID:spatie/icalendar-generator
NAME:Nivon Activiteit
X-WR-CALNAME:Nivon Activiteit
BEGIN:VTIMEZONE
TZID:UTC
BEGIN:STANDARD
DTSTART:20250726T161452
TZOFFSETFROM:+0000
TZOFFSETTO:+0000
END:STANDARD
END:VTIMEZONE
BEGIN:VEVENT
UID:69e8f3fc8a81c
DTSTAMP:20260422T161452Z
SUMMARY:[Bosbeek] Beeldhouwen in speksteen (VOL)
DESCRIPTION:
LOCATION:De Bosbeek - Bosbeekweg 19 Bennekom
DTSTART:20261004T200000Z
DTEND:20261009T120000Z
END:VEVENT
END:VCALENDAR