BEGIN:VCALENDAR
VERSION:2.0
PRODID:spatie/icalendar-generator
NAME:Nivon Activiteit
X-WR-CALNAME:Nivon Activiteit
BEGIN:VTIMEZONE
TZID:UTC
BEGIN:STANDARD
DTSTART:20250726T145107
TZOFFSETFROM:+0000
TZOFFSETTO:+0000
END:STANDARD
END:VTIMEZONE
BEGIN:VEVENT
UID:69e8e05b35d6d
DTSTAMP:20260422T145107Z
SUMMARY:[Bosbeek] Dao De Qi-gong voor gevorderden
DESCRIPTION:
LOCATION:De Bosbeek - Bosbeekweg 19 Bennekom
DTSTART:20260511T193000Z
DTEND:20260515T120000Z
END:VEVENT
END:VCALENDAR