BEGIN:VCALENDAR
VERSION:2.0
PRODID:spatie/icalendar-generator
NAME:Nivon Activiteit
X-WR-CALNAME:Nivon Activiteit
BEGIN:VTIMEZONE
TZID:UTC
BEGIN:STANDARD
DTSTART:20250726T145017
TZOFFSETFROM:+0000
TZOFFSETTO:+0000
END:STANDARD
END:VTIMEZONE
BEGIN:VEVENT
UID:69e8e0290be1a
DTSTAMP:20260422T145017Z
SUMMARY:[Bosbeek] Freestyle borduren
DESCRIPTION:Een cursus vol creativiteit
LOCATION:De Bosbeek - Bosbeekweg 19 Bennekom
DTSTART:20261030T150000Z
DTEND:20261101T140000Z
END:VEVENT
END:VCALENDAR