BEGIN:VCALENDAR
VERSION:2.0
PRODID:spatie/icalendar-generator
NAME:Nivon Activiteit
X-WR-CALNAME:Nivon Activiteit
BEGIN:VTIMEZONE
TZID:UTC
BEGIN:STANDARD
DTSTART:20250726T143746
TZOFFSETFROM:+0000
TZOFFSETTO:+0000
END:STANDARD
END:VTIMEZONE
BEGIN:VEVENT
UID:69e8dd3a76c45
DTSTAMP:20260422T143746Z
SUMMARY:[Bosbeek] (Groot)ouder &amp\; kindweek (VOL)
DESCRIPTION:
LOCATION:De Bosbeek - Bosbeekweg 19 Bennekom
DTSTART:20260720T150000Z
DTEND:20260724T110000Z
END:VEVENT
END:VCALENDAR