BEGIN:VCALENDAR
VERSION:2.0
PRODID:spatie/icalendar-generator
NAME:Nivon Activiteit
X-WR-CALNAME:Nivon Activiteit
BEGIN:VTIMEZONE
TZID:UTC
BEGIN:STANDARD
DTSTART:20250726T163450
TZOFFSETFROM:+0000
TZOFFSETTO:+0000
END:STANDARD
END:VTIMEZONE
BEGIN:VEVENT
UID:69e8f8aa3f37c
DTSTAMP:20260422T163450Z
SUMMARY:[Bosbeek] Inloop Handwerk-inspiratiemidweek
DESCRIPTION:Je keuze staat vrij
LOCATION:De Bosbeek - Bosbeekweg 19 Bennekom
DTSTART:20261101T160000Z
DTEND:20261106T120000Z
END:VEVENT
END:VCALENDAR