BEGIN:VCALENDAR
VERSION:2.0
PRODID:spatie/icalendar-generator
NAME:Nivon Activiteit
X-WR-CALNAME:Nivon Activiteit
BEGIN:VTIMEZONE
TZID:UTC
BEGIN:STANDARD
DTSTART:20250726T143807
TZOFFSETFROM:+0000
TZOFFSETTO:+0000
END:STANDARD
END:VTIMEZONE
BEGIN:VEVENT
UID:69e8dd4fe7475
DTSTAMP:20260422T143807Z
SUMMARY:[Bosbeek] Reizen met taal&#8230\;.
DESCRIPTION:
LOCATION:De Bosbeek - Bosbeekweg 19
DTSTART:20261002T200000Z
DTEND:20261004T000000Z
END:VEVENT
END:VCALENDAR