BEGIN:VCALENDAR
VERSION:2.0
PRODID:spatie/icalendar-generator
NAME:Nivon Activiteit
X-WR-CALNAME:Nivon Activiteit
BEGIN:VTIMEZONE
TZID:UTC
BEGIN:STANDARD
DTSTART:20250726T085135
TZOFFSETFROM:+0000
TZOFFSETTO:+0000
END:STANDARD
END:VTIMEZONE
BEGIN:VEVENT
UID:69e88c17dc314
DTSTAMP:20260422T085135Z
SUMMARY:[Bosbeek] Vegan Kookworkshop
DESCRIPTION:
LOCATION:Natuurvriendenhuis De Bosbeek - Bosbeekweg 19 Bennekom
DTSTART:20260424T160000Z
DTEND:20260426T000000Z
END:VEVENT
END:VCALENDAR