BEGIN:VCALENDAR
VERSION:2.0
PRODID:spatie/icalendar-generator
NAME:Nivon Activiteit
X-WR-CALNAME:Nivon Activiteit
BEGIN:VTIMEZONE
TZID:UTC
BEGIN:STANDARD
DTSTART:20250726T183808
TZOFFSETFROM:+0000
TZOFFSETTO:+0000
END:STANDARD
END:VTIMEZONE
BEGIN:VEVENT
UID:69e915908d36b
DTSTAMP:20260422T183808Z
SUMMARY:[Bosbeek] Verdwalen is balen
DESCRIPTION:
LOCATION:De Bosbeek - Bosbeekweg 19\, Bennekom
DTSTART:20261113T200000Z
DTEND:20261115T140000Z
END:VEVENT
END:VCALENDAR