BEGIN:VCALENDAR
VERSION:2.0
PRODID:spatie/icalendar-generator
NAME:Nivon Activiteit
X-WR-CALNAME:Nivon Activiteit
BEGIN:VTIMEZONE
TZID:UTC
BEGIN:STANDARD
DTSTART:20250726T145058
TZOFFSETFROM:+0000
TZOFFSETTO:+0000
END:STANDARD
END:VTIMEZONE
BEGIN:VEVENT
UID:69e8e052d29ed
DTSTAMP:20260422T145058Z
SUMMARY:[Bosbeek] Verhalen vertellen
DESCRIPTION:
LOCATION:De Bosbeek - Bosbeekweg 19\, Bennekom
DTSTART:20261127T150000Z
DTEND:20261129T130000Z
END:VEVENT
END:VCALENDAR