BEGIN:VCALENDAR
VERSION:2.0
PRODID:spatie/icalendar-generator
NAME:Nivon Activiteit
X-WR-CALNAME:Nivon Activiteit
BEGIN:VTIMEZONE
TZID:UTC
BEGIN:STANDARD
DTSTART:20250726T143630
TZOFFSETFROM:+0000
TZOFFSETTO:+0000
END:STANDARD
END:VTIMEZONE
BEGIN:VEVENT
UID:69e8dcee21282
DTSTAMP:20260422T143630Z
SUMMARY:[Bosbeek] Zangworkshop
DESCRIPTION:
LOCATION:De Bosbeek - Bosbeekweg 19 Bennekom
DTSTART:20261030T150000Z
DTEND:20261101T160000Z
END:VEVENT
END:VCALENDAR