BEGIN:VCALENDAR
VERSION:2.0
PRODID:spatie/icalendar-generator
NAME:Nivon Activiteit
X-WR-CALNAME:Nivon Activiteit
BEGIN:VTIMEZONE
TZID:UTC
BEGIN:STANDARD
DTSTART:20250726T161726
TZOFFSETFROM:+0000
TZOFFSETTO:+0000
END:STANDARD
END:VTIMEZONE
BEGIN:VEVENT
UID:69e8f496eb8ea
DTSTAMP:20260422T161726Z
SUMMARY:[Bosbeek] Zangworkshop
DESCRIPTION:
LOCATION:De Bosbeek - Bosbeekweg 19 Bennekom
DTSTART:20260515T150000Z
DTEND:20260517T160000Z
END:VEVENT
END:VCALENDAR